BEGIN:VCALENDAR
VERSION:2.0
PRODID:SchoolNow
CALSCALE:GREGORIAN
BEGIN:VEVENT
UID:ca379326-7aff-11eb-a844-024eda74435d
DTSTAMP:20210302T023419Z
SUMMARY:Walking\, Toning\, and Strengthening Class
LOCATION:Activities Center
URL;VALUE=URI:https://www.wildernesslakecdd.org/calendar/2550258/walking-to
 ning-and-strengthening-class
DTSTART:20210326T133000Z
DTEND:20210326T144500Z
END:VEVENT
END:VCALENDAR
