BEGIN:VCALENDAR
VERSION:2.0
PRODID:SchoolNow
CALSCALE:GREGORIAN
BEGIN:VEVENT
UID:a31b32d4-7aff-11eb-a054-024eda74435d
DTSTAMP:20210302T023313Z
SUMMARY:Walking\, Toning\, and Strengthening Class
LOCATION:Activities Center
URL;VALUE=URI:https://www.wildernesslakecdd.org/calendar/2550257/walking-to
 ning-and-strengthening-class
DTSTART:20210324T133000Z
DTEND:20210324T144500Z
END:VEVENT
END:VCALENDAR
