BEGIN:VCALENDAR
VERSION:2.0
PRODID:SchoolNow
CALSCALE:GREGORIAN
BEGIN:VEVENT
UID:384f7f50-7aff-11eb-8771-024eda74435d
DTSTAMP:20210302T023014Z
SUMMARY:Walking\, Toning\, and Strengthening Class
LOCATION:Activities Center
URL;VALUE=URI:https://www.wildernesslakecdd.org/calendar/2550254/walking-to
 ning-and-strengthening-class
DTSTART:20210317T133000Z
DTEND:20210317T144500Z
END:VEVENT
END:VCALENDAR
