BEGIN:VCALENDAR
VERSION:2.0
PRODID:SchoolNow
CALSCALE:GREGORIAN
BEGIN:VEVENT
UID:df666048-7afe-11eb-8b20-024eda74435d
DTSTAMP:20210302T022745Z
SUMMARY:Walking\, Toning\, and Strengthening Class
LOCATION:Activities Center
URL;VALUE=URI:https://www.wildernesslakecdd.org/calendar/2550252/walking-to
 ning-and-strengthening-class
DTSTART:20210312T143000Z
DTEND:20210312T154500Z
END:VEVENT
END:VCALENDAR
