BEGIN:VCALENDAR
VERSION:2.0
PRODID:SchoolNow
CALSCALE:GREGORIAN
BEGIN:VEVENT
UID:30ba77e6-7afe-11eb-90b5-024eda74435d
DTSTAMP:20210302T022252Z
SUMMARY:Walking\, Toning\, and Strengthening Class
LOCATION:Activities Center
URL;VALUE=URI:https://www.wildernesslakecdd.org/calendar/2550248/walking-to
 ning-and-strengthening-class
DTSTART:20210303T143000Z
DTEND:20210303T154500Z
END:VEVENT
END:VCALENDAR
