BEGIN:VCALENDAR
VERSION:2.0
PRODID:SchoolNow
CALSCALE:GREGORIAN
BEGIN:VEVENT
UID:652f9778-7afd-11eb-a2de-024eda74435d
DTSTAMP:20210302T021710Z
SUMMARY:Asian Variety Food Truck
LOCATION:Lodge Parking Lot
URL;VALUE=URI:https://www.wildernesslakecdd.org/calendar/2550247/asian-vari
 ety-food-truck
DTSTART:20210303T220000Z
DTEND:20210304T010000Z
END:VEVENT
END:VCALENDAR
