BEGIN:VCALENDAR
VERSION:2.0
PRODID:SchoolNow
CALSCALE:GREGORIAN
BEGIN:VEVENT
UID:3ad9bbfc-7afd-11eb-8d6d-024eda74435d
DTSTAMP:20210302T021559Z
SUMMARY:Asian Variety Food Truck
LOCATION:Lodge Parking Lot
URL;VALUE=URI:https://www.wildernesslakecdd.org/calendar/2550246/asian-vari
 ety-food-truck
DTSTART:20210301T220000Z
DTEND:20210302T010000Z
END:VEVENT
END:VCALENDAR
