BEGIN:VCALENDAR
VERSION:2.0
PRODID:SchoolNow
CALSCALE:GREGORIAN
BEGIN:VEVENT
UID:f9b6b594-7afc-11eb-b96e-024eda74435d
DTSTAMP:20210302T021410Z
SUMMARY:Yoga
LOCATION:Activities Center
URL;VALUE=URI:https://www.wildernesslakecdd.org/calendar/2550244/yoga
DTSTART:20210325T121500Z
DTEND:20210325T134500Z
END:VEVENT
END:VCALENDAR
