BEGIN:VCALENDAR
VERSION:2.0
PRODID:SchoolNow
CALSCALE:GREGORIAN
BEGIN:VEVENT
UID:cab59058-7afc-11eb-aaaa-024eda74435d
DTSTAMP:20210302T021251Z
SUMMARY:Yoga
LOCATION:Activities Center
URL;VALUE=URI:https://www.wildernesslakecdd.org/calendar/2550236/yoga
DTSTART:20210323T121500Z
DTEND:20210323T134500Z
END:VEVENT
END:VCALENDAR
