BEGIN:VCALENDAR
VERSION:2.0
PRODID:SchoolNow
CALSCALE:GREGORIAN
BEGIN:VEVENT
UID:9ac9618a-7afc-11eb-b9e5-024eda74435d
DTSTAMP:20210302T021131Z
SUMMARY:Yoga
LOCATION:Activities Center
URL;VALUE=URI:https://www.wildernesslakecdd.org/calendar/2550235/yoga
DTSTART:20210309T131500Z
DTEND:20210309T144500Z
END:VEVENT
END:VCALENDAR
