BEGIN:VCALENDAR
VERSION:2.0
PRODID:SchoolNow
CALSCALE:GREGORIAN
BEGIN:VEVENT
UID:61fdf884-7afc-11eb-83e6-024eda74435d
DTSTAMP:20210302T020955Z
SUMMARY:Yoga
LOCATION:Activities Center
URL;VALUE=URI:https://www.wildernesslakecdd.org/calendar/2550234/yoga
DTSTART:20210318T121500Z
DTEND:20210318T134500Z
END:VEVENT
END:VCALENDAR
