BEGIN:VCALENDAR
VERSION:2.0
PRODID:SchoolNow
CALSCALE:GREGORIAN
BEGIN:VEVENT
UID:2838dd44-7afc-11eb-aacd-024eda74435d
DTSTAMP:20210302T020819Z
SUMMARY:Yoga
LOCATION:Activities Center
URL;VALUE=URI:https://www.wildernesslakecdd.org/calendar/2550233/yoga
DTSTART:20210311T131500Z
DTEND:20210311T144500Z
END:VEVENT
END:VCALENDAR
