BEGIN:VCALENDAR
VERSION:2.0
PRODID:SchoolNow
CALSCALE:GREGORIAN
BEGIN:VEVENT
UID:048dc314-7afc-11eb-80bb-024eda74435d
DTSTAMP:20210302T020719Z
SUMMARY:Yoga
LOCATION:Activities Center
URL;VALUE=URI:https://www.wildernesslakecdd.org/calendar/2550232/yoga
DTSTART:20210316T121500Z
DTEND:20210316T134500Z
END:VEVENT
END:VCALENDAR
