BEGIN:VCALENDAR
VERSION:2.0
PRODID:SchoolNow
CALSCALE:GREGORIAN
BEGIN:VEVENT
UID:dd1fe9f6-7afb-11eb-ba07-024eda74435d
DTSTAMP:20210302T020613Z
SUMMARY:Yoga
LOCATION:Activities Center
URL;VALUE=URI:https://www.wildernesslakecdd.org/calendar/2550231/yoga
DTSTART:20210304T131500Z
DTEND:20210304T144500Z
END:VEVENT
END:VCALENDAR
