BEGIN:VCALENDAR
VERSION:2.0
PRODID:SchoolNow
CALSCALE:GREGORIAN
BEGIN:VEVENT
UID:b6b52b5a-7afb-11eb-8321-024eda74435d
DTSTAMP:20210302T020508Z
SUMMARY:Yoga
LOCATION:Activities Center
URL;VALUE=URI:https://www.wildernesslakecdd.org/calendar/2550230/yoga
DTSTART:20210302T131500Z
DTEND:20210302T144500Z
END:VEVENT
END:VCALENDAR
