BEGIN:VCALENDAR
VERSION:2.0
PRODID:SchoolNow
CALSCALE:GREGORIAN
BEGIN:VEVENT
UID:c3c0e60c-6c6b-11eb-8a38-0e8dea5d6553
DTSTAMP:20210409T133536Z
SUMMARY:CDD Budget Workshop
LOCATION:Activities Center - Call-in link (813) 658-6070 ~ Code: 165948
URL;VALUE=URI:https://www.wildernesslakecdd.org/calendar/2538160/cdd-budget
 -workshop
DTSTART:20210415T133000Z
DTEND:20210415T170000Z
ATTACH;FILENAME=2021-04-15- Preserve at Wilderness Lake - Final Budget Work
 shop Agenda.pdf;FMTTYPE=application/pdf:https://campussuite-storage.s3.ama
 zonaws.com/prod/1558874/21caec5e-ea98-11e9-8581-0a20d2c7fac4/2250582/5db1f
 186-9938-11eb-9b92-02ccf212067f/file/2021-04-15- Preserve at Wilderness La
 ke - Final Budget Workshop Agenda.pdf
END:VEVENT
END:VCALENDAR
