BEGIN:VCALENDAR
VERSION:2.0
PRODID:SchoolNow
CALSCALE:GREGORIAN
BEGIN:VEVENT
UID:c6965b28-6982-11eb-996d-0e90a09e9d49
DTSTAMP:20210207T202636Z
SUMMARY:Wine Tasting Under the Stars
LOCATION:Lodge Fire Pit Courtyard
URL;VALUE=URI:https://www.wildernesslakecdd.org/calendar/2535653/wine-tasti
 ng-under-the-stars
DTSTART:20210306T230000Z
DTEND:20210307T010000Z
END:VEVENT
END:VCALENDAR
