BEGIN:VCALENDAR
VERSION:2.0
PRODID:SchoolNow
CALSCALE:GREGORIAN
BEGIN:VEVENT
UID:c41ff3c8-6981-11eb-bc74-0e90a09e9d49
DTSTAMP:20210207T201922Z
SUMMARY:Cornhole Challenge
LOCATION:Lodge Courtyard
URL;VALUE=URI:https://www.wildernesslakecdd.org/calendar/2535652/cornhole-c
 hallenge
DTSTART:20210227T190000Z
DTEND:20210227T210000Z
END:VEVENT
END:VCALENDAR
