BEGIN:VCALENDAR
VERSION:2.0
PRODID:SchoolNow
CALSCALE:GREGORIAN
BEGIN:VEVENT
UID:554f106e-6981-11eb-b298-02b8d3e6c16d
DTSTAMP:20210207T201616Z
SUMMARY:Ping Pong Madness
LOCATION:Activities Center
URL;VALUE=URI:https://www.wildernesslakecdd.org/calendar/2535651/ping-pong-
 madness
DTSTART:20210221T190000Z
DTEND:20210221T210000Z
END:VEVENT
END:VCALENDAR
