BEGIN:VCALENDAR
VERSION:2.0
PRODID:SchoolNow
CALSCALE:GREGORIAN
BEGIN:VEVENT
UID:fb0c3924-6980-11eb-8b8a-02b8d3e6c16d
DTSTAMP:20210207T201345Z
SUMMARY:Basketball Bonanza
LOCATION:Basketball Court
URL;VALUE=URI:https://www.wildernesslakecdd.org/calendar/2535650/basketball
 -bonanza
DTSTART:20210226T233000Z
DTEND:20210227T010000Z
END:VEVENT
END:VCALENDAR
