BEGIN:VCALENDAR
VERSION:2.0
PRODID:SchoolNow
CALSCALE:GREGORIAN
BEGIN:VEVENT
UID:b242643e-6980-11eb-a394-02b8d3e6c16d
DTSTAMP:20210207T201143Z
SUMMARY:Adult Art Class
URL;VALUE=URI:https://www.wildernesslakecdd.org/calendar/2535649/adult-art-
 class
DTSTART:20210220T190000Z
DTEND:20210220T210000Z
END:VEVENT
END:VCALENDAR
