BEGIN:VCALENDAR
VERSION:2.0
PRODID:SchoolNow
CALSCALE:GREGORIAN
BEGIN:VEVENT
UID:829164e2-6980-11eb-8166-02b8d3e6c16d
DTSTAMP:20210207T201207Z
SUMMARY:Kid's Art Class
LOCATION:Activities Center
URL;VALUE=URI:https://www.wildernesslakecdd.org/calendar/2535648/kids-art-c
 lass
DTSTART:20210220T150000Z
DTEND:20210220T170000Z
END:VEVENT
END:VCALENDAR
