BEGIN:VCALENDAR
VERSION:2.0
PRODID:SchoolNow
CALSCALE:GREGORIAN
BEGIN:VEVENT
UID:e41a11c4-697f-11eb-87eb-02b8d3e6c16d
DTSTAMP:20210207T200557Z
SUMMARY:Walking\, Toning\, and Strengthening Class
LOCATION:Activities Center
URL;VALUE=URI:https://www.wildernesslakecdd.org/calendar/2535647/walking-to
 ning-and-strengthening-class
DTSTART:20210226T143000Z
DTEND:20210226T154500Z
END:VEVENT
END:VCALENDAR
