BEGIN:VCALENDAR
VERSION:2.0
PRODID:SchoolNow
CALSCALE:GREGORIAN
BEGIN:VEVENT
UID:ba88088e-697f-11eb-a4fc-02b8d3e6c16d
DTSTAMP:20210207T200447Z
SUMMARY:Walking\, Toning\, Strengthening Class
LOCATION:Activities Center
URL;VALUE=URI:https://www.wildernesslakecdd.org/calendar/2535646/walking-to
 ning-strengthening-class
DTSTART:20210222T143000Z
DTEND:20210222T154500Z
END:VEVENT
END:VCALENDAR
