BEGIN:VCALENDAR
VERSION:2.0
PRODID:SchoolNow
CALSCALE:GREGORIAN
BEGIN:VEVENT
UID:8e1253ae-697f-11eb-86a3-02b8d3e6c16d
DTSTAMP:20210207T200333Z
SUMMARY:Walking\, Toning\, and Strengthening Class
LOCATION:Activities Center
URL;VALUE=URI:https://www.wildernesslakecdd.org/calendar/2535645/walking-to
 ning-and-strengthening-class
DTSTART:20210219T143000Z
DTEND:20210219T154500Z
END:VEVENT
END:VCALENDAR
