BEGIN:VCALENDAR
VERSION:2.0
PRODID:SchoolNow
CALSCALE:GREGORIAN
BEGIN:VEVENT
UID:0dd53fd0-697f-11eb-b395-02b8d3e6c16d
DTSTAMP:20210207T200215Z
SUMMARY:Walking\, Toning\, and Strengthening Class
LOCATION:Actiities Center
URL;VALUE=URI:https://www.wildernesslakecdd.org/calendar/2535644/walking-to
 ning-and-strengthening-class
DTSTART:20210217T140000Z
DTEND:20210217T154500Z
END:VEVENT
END:VCALENDAR
