BEGIN:VCALENDAR
VERSION:2.0
PRODID:SchoolNow
CALSCALE:GREGORIAN
BEGIN:VEVENT
UID:cd5b32d4-697e-11eb-a85a-02b8d3e6c16d
DTSTAMP:20210207T200204Z
SUMMARY:Walking\, Toning\, and Strengthening Class
LOCATION:Activities Center
URL;VALUE=URI:https://www.wildernesslakecdd.org/calendar/2535643/walking-to
 ning-and-strengthening-class
DTSTART:20210215T143000Z
DTEND:20210215T154500Z
END:VEVENT
END:VCALENDAR
