BEGIN:VCALENDAR
VERSION:2.0
PRODID:SchoolNow
CALSCALE:GREGORIAN
BEGIN:VEVENT
UID:d778c0c0-697d-11eb-ba4a-0a36dcaae867
DTSTAMP:20210207T195117Z
SUMMARY:Boot Camp
URL;VALUE=URI:https://www.wildernesslakecdd.org/calendar/2535642/boot-camp
DTSTART:20210226T140000Z
DTEND:20210226T150000Z
END:VEVENT
END:VCALENDAR
