BEGIN:VCALENDAR
VERSION:2.0
PRODID:SchoolNow
CALSCALE:GREGORIAN
BEGIN:VEVENT
UID:b89896d0-697d-11eb-a8cd-0a36dcaae867
DTSTAMP:20210207T195025Z
SUMMARY:Boot Camp
LOCATION:Basketball Court
URL;VALUE=URI:https://www.wildernesslakecdd.org/calendar/2535641/boot-camp
DTSTART:20210222T140000Z
DTEND:20210222T150000Z
END:VEVENT
END:VCALENDAR
