BEGIN:VCALENDAR
VERSION:2.0
PRODID:SchoolNow
CALSCALE:GREGORIAN
BEGIN:VEVENT
UID:9405f7b8-697d-11eb-8ffa-0a36dcaae867
DTSTAMP:20210207T194924Z
SUMMARY:Boot Camp
URL;VALUE=URI:https://www.wildernesslakecdd.org/calendar/2535640/boot-camp
DTSTART:20210219T140000Z
DTEND:20210219T150000Z
END:VEVENT
END:VCALENDAR
