BEGIN:VCALENDAR
VERSION:2.0
PRODID:SchoolNow
CALSCALE:GREGORIAN
BEGIN:VEVENT
UID:6d10714c-697d-11eb-8860-0a36dcaae867
DTSTAMP:20210207T194818Z
SUMMARY:Boot Camp
LOCATION:Basketball Court
URL;VALUE=URI:https://www.wildernesslakecdd.org/calendar/2535639/boot-camp
DTSTART:20210217T140000Z
DTEND:20210217T150000Z
END:VEVENT
END:VCALENDAR
