BEGIN:VCALENDAR
VERSION:2.0
PRODID:SchoolNow
CALSCALE:GREGORIAN
BEGIN:VEVENT
UID:12ed796c-697d-11eb-9696-0a36dcaae867
DTSTAMP:20210207T194629Z
SUMMARY:Boot Camp
LOCATION:Basketball Court
URL;VALUE=URI:https://www.wildernesslakecdd.org/calendar/2535638/boot-camp
DTSTART:20210215T140000Z
DTEND:20210215T150000Z
END:VEVENT
END:VCALENDAR
