BEGIN:VCALENDAR
VERSION:2.0
PRODID:SchoolNow
CALSCALE:GREGORIAN
BEGIN:VEVENT
UID:7f523f36-697b-11eb-aedb-0e556cfec7c9
DTSTAMP:20210207T193430Z
SUMMARY:Yoga
LOCATION:Activites Center
URL;VALUE=URI:https://www.wildernesslakecdd.org/calendar/2535637/yoga
DTSTART:20210225T131500Z
DTEND:20210225T144500Z
END:VEVENT
END:VCALENDAR
