BEGIN:VCALENDAR
VERSION:2.0
PRODID:SchoolNow
CALSCALE:GREGORIAN
BEGIN:VEVENT
UID:5ecd35b8-697b-11eb-8b0e-0e556cfec7c9
DTSTAMP:20210207T193335Z
SUMMARY:Yoga
LOCATION:Activities Center
URL;VALUE=URI:https://www.wildernesslakecdd.org/calendar/2535636/yoga
DTSTART:20210223T131500Z
DTEND:20210223T144500Z
END:VEVENT
END:VCALENDAR
