BEGIN:VCALENDAR
VERSION:2.0
PRODID:SchoolNow
CALSCALE:GREGORIAN
BEGIN:VEVENT
UID:372b12dc-697b-11eb-9f91-0e556cfec7c9
DTSTAMP:20210207T193229Z
SUMMARY:Yoga
LOCATION:Activites Center
URL;VALUE=URI:https://www.wildernesslakecdd.org/calendar/2535635/yoga
DTSTART:20210218T131500Z
DTEND:20210218T144500Z
END:VEVENT
END:VCALENDAR
