BEGIN:VCALENDAR
VERSION:2.0
PRODID:SchoolNow
CALSCALE:GREGORIAN
BEGIN:VEVENT
UID:00c451fe-697b-11eb-86c6-0e556cfec7c9
DTSTAMP:20210207T193057Z
SUMMARY:Yoga
LOCATION:Activities Center
URL;VALUE=URI:https://www.wildernesslakecdd.org/calendar/2535634/yoga
DTSTART:20210216T131500Z
DTEND:20210216T144500Z
END:VEVENT
END:VCALENDAR
