BEGIN:VCALENDAR
VERSION:2.0
PRODID:SchoolNow
CALSCALE:GREGORIAN
BEGIN:VEVENT
UID:0da42e3a-6976-11eb-8b9c-0aa54e2b6a75
DTSTAMP:20210207T185532Z
SUMMARY:Badminton Bash
LOCATION:Lodge Courtyard
URL;VALUE=URI:https://www.wildernesslakecdd.org/calendar/2535633/badminton-
 bash
DTSTART:20210214T190000Z
DTEND:20210214T210000Z
END:VEVENT
END:VCALENDAR
