BEGIN:VCALENDAR
VERSION:2.0
PRODID:SchoolNow
CALSCALE:GREGORIAN
BEGIN:VEVENT
UID:93f3ed28-6975-11eb-b78b-0aa54e2b6a75
DTSTAMP:20210207T192923Z
SUMMARY:Yoga
LOCATION:Activities Center
URL;VALUE=URI:https://www.wildernesslakecdd.org/calendar/2535632/yoga
DTSTART:20210211T131500Z
DTEND:20210211T144500Z
END:VEVENT
END:VCALENDAR
