BEGIN:VCALENDAR
VERSION:2.0
PRODID:SchoolNow
CALSCALE:GREGORIAN
BEGIN:VEVENT
UID:68ce0e30-6975-11eb-81a8-0aa54e2b6a75
DTSTAMP:20210207T193109Z
SUMMARY:Yoga
LOCATION:Activities Center
URL;VALUE=URI:https://www.wildernesslakecdd.org/calendar/2535631/yoga
DTSTART:20210209T131500Z
DTEND:20210209T144500Z
END:VEVENT
END:VCALENDAR
