BEGIN:VCALENDAR
VERSION:2.0
PRODID:SchoolNow
CALSCALE:GREGORIAN
BEGIN:VEVENT
UID:018f7eac-6975-11eb-b723-0aa54e2b6a75
DTSTAMP:20210207T200136Z
SUMMARY:Walking\, Toning\, and Strengthening Class
LOCATION:Activities Center
URL;VALUE=URI:https://www.wildernesslakecdd.org/calendar/2535630/walking-to
 ning-and-strengthening-class
DTSTART:20210212T143000Z
DTEND:20210212T154500Z
END:VEVENT
END:VCALENDAR
