BEGIN:VCALENDAR
VERSION:2.0
PRODID:SchoolNow
CALSCALE:GREGORIAN
BEGIN:VEVENT
UID:1420e124-6974-11eb-a390-0aa54e2b6a75
DTSTAMP:20210207T184123Z
SUMMARY:Asian Variety Food Truck
LOCATION:Lodge Parking Lot
URL;VALUE=URI:https://www.wildernesslakecdd.org/calendar/2535627/asian-vari
 ety-food-truck
DTSTART:20210210T220000Z
DTEND:20210211T010000Z
END:VEVENT
END:VCALENDAR
