BEGIN:VCALENDAR
VERSION:2.0
PRODID:SchoolNow
CALSCALE:GREGORIAN
BEGIN:VEVENT
UID:92a51552-6973-11eb-b524-0aa54e2b6a75
DTSTAMP:20210207T195226Z
SUMMARY:Charm City Eats Food Truck
LOCATION:Lodge Parking Lot
URL;VALUE=URI:https://www.wildernesslakecdd.org/calendar/2535626/charm-city
 -eats-food-truck
DTSTART:20210213T210000Z
DTEND:20210213T220000Z
END:VEVENT
END:VCALENDAR
