BEGIN:VCALENDAR
VERSION:2.0
PRODID:SchoolNow
CALSCALE:GREGORIAN
BEGIN:VEVENT
UID:22ef27ca-6973-11eb-aa38-0e90a09e9d49
DTSTAMP:20210207T183439Z
SUMMARY:Valentine's Extravaganza Grill & Chill
URL;VALUE=URI:https://www.wildernesslakecdd.org/calendar/2535625/valentines
 -extravaganza-grill-chill
DTSTART:20210212T233000Z
DTEND:20210213T003000Z
END:VEVENT
END:VCALENDAR
