BEGIN:VCALENDAR
VERSION:2.0
PRODID:SchoolNow
CALSCALE:GREGORIAN
BEGIN:VEVENT
UID:5afe8eb8-6972-11eb-a7b8-0eb522261169
DTSTAMP:20210207T194659Z
SUMMARY:Boot Camp
LOCATION:Basketball Court
URL;VALUE=URI:https://www.wildernesslakecdd.org/calendar/2535624/boot-camp
DTSTART:20210212T140000Z
DTEND:20210212T150000Z
END:VEVENT
END:VCALENDAR
