BEGIN:VCALENDAR
VERSION:2.0
PRODID:SchoolNow
CALSCALE:GREGORIAN
BEGIN:VEVENT
UID:24c89e24-6972-11eb-a84d-0eb522261169
DTSTAMP:20210207T194648Z
SUMMARY:Boot Camp
LOCATION:Basketball Court
URL;VALUE=URI:https://www.wildernesslakecdd.org/calendar/2535623/boot-camp
DTSTART:20210210T140000Z
DTEND:20210210T150000Z
END:VEVENT
END:VCALENDAR
