BEGIN:VCALENDAR
VERSION:2.0
PRODID:SchoolNow
CALSCALE:GREGORIAN
BEGIN:VEVENT
UID:fc26a74a-6971-11eb-932a-0eb522261169
DTSTAMP:20210207T194638Z
SUMMARY:Boot Camp
LOCATION:Basketball Court
URL;VALUE=URI:https://www.wildernesslakecdd.org/calendar/2535622/boot-camp
DTSTART:20210208T140000Z
DTEND:20210208T150000Z
END:VEVENT
END:VCALENDAR
