BEGIN:VCALENDAR
VERSION:2.0
PRODID:SchoolNow
CALSCALE:GREGORIAN
BEGIN:VEVENT
UID:d2681658-58ed-11eb-9451-0e08d3240839
DTSTAMP:20210117T180002Z
SUMMARY:Yoga
LOCATION:Activities Center
URL;VALUE=URI:https://www.wildernesslakecdd.org/calendar/2526617/yoga
DTSTART:20210128T131500Z
DTEND:20210128T144500Z
END:VEVENT
END:VCALENDAR
