BEGIN:VCALENDAR
VERSION:2.0
PRODID:SchoolNow
CALSCALE:GREGORIAN
BEGIN:VEVENT
UID:b74ada72-58ed-11eb-9925-0e08d3240839
DTSTAMP:20210117T175917Z
SUMMARY:Yoga
LOCATION:Activities Center
URL;VALUE=URI:https://www.wildernesslakecdd.org/calendar/2526616/yoga
DTSTART:20210126T131500Z
DTEND:20210126T144500Z
END:VEVENT
END:VCALENDAR
