BEGIN:VCALENDAR
VERSION:2.0
PRODID:SchoolNow
CALSCALE:GREGORIAN
BEGIN:VEVENT
UID:9aee0070-58ed-11eb-8fe8-0e08d3240839
DTSTAMP:20210117T175829Z
SUMMARY:Yoga
LOCATION:Activities Center
URL;VALUE=URI:https://www.wildernesslakecdd.org/calendar/2526615/yoga
DTSTART:20210121T131500Z
DTEND:20210121T144500Z
END:VEVENT
END:VCALENDAR
