BEGIN:VCALENDAR
VERSION:2.0
PRODID:SchoolNow
CALSCALE:GREGORIAN
BEGIN:VEVENT
UID:7d91b95e-58ed-11eb-840b-0e08d3240839
DTSTAMP:20210117T175740Z
SUMMARY:Yoga
LOCATION:Activities Center
URL;VALUE=URI:https://www.wildernesslakecdd.org/calendar/2526614/yoga
DTSTART:20210119T131500Z
DTEND:20210119T144500Z
END:VEVENT
END:VCALENDAR
